BEGIN:VCALENDAR
VERSION:2.0
PRODID:-//Siren Books - ECPv6.15.20//NONSGML v1.0//EN
CALSCALE:GREGORIAN
METHOD:PUBLISH
X-ORIGINAL-URL:https://sirenbooks.es
X-WR-CALDESC:Eventos para Siren Books
REFRESH-INTERVAL;VALUE=DURATION:PT1H
X-Robots-Tag:noindex
X-PUBLISHED-TTL:PT1H
BEGIN:VTIMEZONE
TZID:Europe/Paris
BEGIN:DAYLIGHT
TZOFFSETFROM:+0100
TZOFFSETTO:+0200
TZNAME:CEST
DTSTART:20250330T010000
END:DAYLIGHT
BEGIN:STANDARD
TZOFFSETFROM:+0200
TZOFFSETTO:+0100
TZNAME:CET
DTSTART:20251026T010000
END:STANDARD
BEGIN:DAYLIGHT
TZOFFSETFROM:+0100
TZOFFSETTO:+0200
TZNAME:CEST
DTSTART:20260329T010000
END:DAYLIGHT
BEGIN:STANDARD
TZOFFSETFROM:+0200
TZOFFSETTO:+0100
TZNAME:CET
DTSTART:20261025T010000
END:STANDARD
BEGIN:DAYLIGHT
TZOFFSETFROM:+0100
TZOFFSETTO:+0200
TZNAME:CEST
DTSTART:20270328T010000
END:DAYLIGHT
BEGIN:STANDARD
TZOFFSETFROM:+0200
TZOFFSETTO:+0100
TZNAME:CET
DTSTART:20271031T010000
END:STANDARD
END:VTIMEZONE
BEGIN:VEVENT
DTSTART;TZID=Europe/Paris:20260501T170000
DTEND;TZID=Europe/Paris:20260501T183000
DTSTAMP:20260421T131043
CREATED:20260420T114624Z
LAST-MODIFIED:20260420T114624Z
UID:9888-1777654800-1777660200@sirenbooks.es
SUMMARY:Firma de Javi G. de Hita | FLV
DESCRIPTION:  \nJavi G. de Hita firma su novela Merry Xmess: una Navidad desastrosa en la caseta 121 (Siren Books) de la Fira del Llibre de València el viernes 1 de mayo de 17:00 a 18:30.
URL:https://sirenbooks.es/evento/firma-de-javi-g-de-hita-flv/
LOCATION:Fira del Llibre de València\, Jardines de Viveros\, Valencia
CATEGORIES:Firma
END:VEVENT
BEGIN:VEVENT
DTSTART;TZID=Europe/Paris:20260502T110000
DTEND;TZID=Europe/Paris:20260502T123000
DTSTAMP:20260421T131043
CREATED:20260420T114842Z
LAST-MODIFIED:20260420T114842Z
UID:9890-1777719600-1777725000@sirenbooks.es
SUMMARY:Firma de Natalia Belchi | FLV
DESCRIPTION:  \nNatalia Belchi firma sus novelas Witchypop\, El Grimorio y La academia en la caseta 121 (Siren Books) de la Fira del Llibre de València el sábado 2 de mayo de 11:00 a 12:30.
URL:https://sirenbooks.es/evento/firma-de-natalia-belchi-flv-3/
LOCATION:Fira del Llibre de València\, Jardines de Viveros\, Valencia
CATEGORIES:Firma
END:VEVENT
BEGIN:VEVENT
DTSTART;TZID=Europe/Paris:20260502T123000
DTEND;TZID=Europe/Paris:20260502T140000
DTSTAMP:20260421T131043
CREATED:20260420T115048Z
LAST-MODIFIED:20260420T115204Z
UID:9893-1777725000-1777730400@sirenbooks.es
SUMMARY:Firma de Alexandra Smoak | FLV
DESCRIPTION:  \nAlexandra Smoak firma su bilogía Dark Times\, compuesta por Dark times y Lit Hell\, en la caseta 121 (Siren Books) de la Fira del Llibre de València el sábado 2 de mayo de 12:30 a 14:00.
URL:https://sirenbooks.es/evento/firma-de-alexandra-smoak-flv-2/
LOCATION:Fira del Llibre de València\, Jardines de Viveros\, Valencia
CATEGORIES:Firma
END:VEVENT
BEGIN:VEVENT
DTSTART;TZID=Europe/Paris:20260502T170000
DTEND;TZID=Europe/Paris:20260502T193000
DTSTAMP:20260421T131043
CREATED:20260420T115314Z
LAST-MODIFIED:20260420T123631Z
UID:9895-1777741200-1777750200@sirenbooks.es
SUMMARY:Firma de Raisa Martín Espinosa | FLV
DESCRIPTION:Raisa Martín Espinosa firma sus novelas Indómita\, Inquebrantable e Inmarcesible en la caseta 121 (Siren Books) de la Fira del Llibre de València el sábado 2 de mayo de 17:00 a 19:30.
URL:https://sirenbooks.es/evento/firma-de-raisa-martin-espinosa-flvc/
LOCATION:Fira del Llibre de València\, Jardines de Viveros\, Valencia
CATEGORIES:Firma
END:VEVENT
BEGIN:VEVENT
DTSTART;TZID=Europe/Paris:20260509T170000
DTEND;TZID=Europe/Paris:20260509T190000
DTSTAMP:20260421T131043
CREATED:20260420T115539Z
LAST-MODIFIED:20260420T123000Z
UID:9898-1778346000-1778353200@sirenbooks.es
SUMMARY:Firma de Lidia Castillo | FLV
DESCRIPTION:  \nLidia Castillo firma su trilogía Incierto\, compuesta por A una maldición de encontrarnos (Incierto #1)\, A un secreto de condenarnos (Incierto #2) y A una traición de perdernos (Incierto #3) en la caseta 121 (Siren Books) de la Fira del Llibre de València el sábado 9 de mayo de 17:00 a 19:00.
URL:https://sirenbooks.es/evento/firma-de-lidia-castillo-flv-4/
LOCATION:Fira del Llibre de València\, Jardines de Viveros\, Valencia
CATEGORIES:Firma
END:VEVENT
BEGIN:VEVENT
DTSTART;VALUE=DATE:20260511
DTEND;VALUE=DATE:20260512
DTSTAMP:20260421T131043
CREATED:20260318T110344Z
LAST-MODIFIED:20260318T110344Z
UID:9818-1778457600-1778543999@sirenbooks.es
SUMMARY:Publicación Beautiful Fiend (North Shore #1) de Lola King
DESCRIPTION:Cuando naces en North Shore\, sabes que no tienes escapatoria. No hay manera de salir de aquí\, no hay final feliz\, no hay esperanza…\nSiempre hemos estado en guerra\, divididos en dos bandas que luchan por controlar estas calles de mierda en las que estamos atrapados. Solo conozco a una persona que quiera salir de este lugar: yo.\nSiempre he sido la chica dura de North Shore. Llevo la pelea en la sangre y la supervivencia forma parte de mi ADN.\nPero hace dos años\, Caden King me rompió. Y tiene pruebas.\nAhora las está usando para chantajearme y que le haga el trabajo sucio. El tipo de trabajo que puede poner en riesgo mi única oportunidad de escapar de North Shore. El tipo de trabajo que significa tener que traicionar a mi gente…\nLos Kings de North Shore se llaman así por la crueldad con la que su familia ha liderado siempre la banda y Caden no se queda atrás\, es retorcido y perturbador. Y está encima de mí todo el tiempo\, no me deja en paz\, su peligrosa mente siempre buscando nuevas maneras de atormentarme.\nTodo el mundo dice que no tiene sentido enfrentarse a él. Está tan loco que no distingue el bien del mal.\nAhora me tiene bajo su control\, y nada ni nadie me protegerá de él.\nNo puedo ganar.\nNo puedo escapar.\nNo me queda otra opción… tengo que obedecerlo. \n\n\n\nISBN\n979-13-87864-21-7\n\n\nSERIE\nNORTH SHORE #1\n\n\nCOLECCIÓN\nNEW ADULT\n\n\nFECHA DE PUBLICACIÓN\n11/05/2026\n\n\nFORMATO\nRÚSTICA CON SOLAPAS\n\n\nDIMENSIONES\n14\,5cm x 21cm\n\n\nGÉNEROS RELACIONADOS\nRomance | Dark romance | BookTok\n\n\nAVISO DE CONTENIDO\nsexo no consentido\, consentimiento dudoso\, abusos sexuales\, violencia doméstica\, chantaje\, asesinato y depresión.
URL:https://sirenbooks.es/evento/publicacion-beautiful-fiend-north-shore-1-de-lola-king/
CATEGORIES:Publicación
END:VEVENT
BEGIN:VEVENT
DTSTART;VALUE=DATE:20260525
DTEND;VALUE=DATE:20260526
DTSTAMP:20260421T131043
CREATED:20260420T110142Z
LAST-MODIFIED:20260420T125221Z
UID:9816-1779667200-1779753599@sirenbooks.es
SUMMARY:Publicación «El pago» (Losers #2) de Harley Laroux
DESCRIPTION:Toda acción tiene sus consecuencias…\nPor culpa de un error tonto terminé en una deuda que solo podía pagar de una manera: sometiéndome a los hombres que juré odiar. Pero en la oscuridad que compartimos\, algunas partes de mí salieron a la luz.\nHe estado llevando una máscara durante demasiado tiempo. Ahora\, me debato entre el futuro que pensaba que quería y una vida que creía que solo era una fantasía.\nPero lo que sentimos nunca fue un juego.\n¿Qué estoy dispuesta a sacrificar? ¿Mi orgullo y mis planes de futuro? ¿La determinación de que puedo hacerlo todo sola? ¿O mi recién descubierta libertad para vivir como quiera con los hombres que revolucionaron mi mundo?\n¿A qué estoy dispuesta a renunciar?\n¿A quién estoy dispuesta a perder? \n\n\n\nISBN\n979-13-87864-32-3\n\n\nBILOGÍA\nLOSERS #2\n\nCOLECCIÓN\nNEW ADULT\n\n\nFECHA DE PUBLICACIÓN\n25/05/2026\n\n\nFORMATO\nRÚSTICA CON SOLAPAS\n\n\nDIMENSIONES\n14\,5cm x 21cm\n\n\nGÉNEROS RELACIONADOS\nDark Romance | BookTok\n\n\nAVISO DE CONTENIDO\nenfermedad mental\, trauma\, abuso infantil (físico y emocional)\, humillación corporal\, rechazo paterno\, acoso escolar\, consumo de drogas\, homofobia/bifobia\, mención de suicidio\, violencia gráfica\, BDSM\, sexo no consentido consensuado (CNC)\, degradación y humillación erótica\, bondage\, electroestimulación\, disciplina doméstica\, juegos con golpes\, cuchillos\, fluidos corporales\, sangre\, juegos sexuales en público\, juegos con dolor\, voyerismo.
URL:https://sirenbooks.es/evento/publicacion-el-pago-harley-laroyx/
CATEGORIES:Publicación
END:VEVENT
BEGIN:VEVENT
DTSTART;TZID=Europe/Paris:20260530T110000
DTEND;TZID=Europe/Paris:20260530T130000
DTSTAMP:20260421T131043
CREATED:20260420T123227Z
LAST-MODIFIED:20260420T123227Z
UID:9917-1780138800-1780146000@sirenbooks.es
SUMMARY:Firma de Lidia Castillo | FLM
DESCRIPTION:Lidia Castillo firma su trilogía Incierto\, compuesta por A una maldición de encontrarnos (Incierto #1)\, A un secreto de condenarnos (Incierto #2) y A una traición de perdernos (Incierto #3) en la caseta en la librería La Independiente\, caseta 301 (bloque 26B) de la Feria del Libro de Madrid el sábado 30 de mayo de 11:00 a 13:00.
URL:https://sirenbooks.es/evento/firma-de-lidia-castillo-flm-3/
LOCATION:Feria del Libro de Madrid\, Madrid\, España
CATEGORIES:Firma
END:VEVENT
BEGIN:VEVENT
DTSTART;TZID=Europe/Paris:20260530T170000
DTEND;TZID=Europe/Paris:20260530T190000
DTSTAMP:20260421T131043
CREATED:20260420T124352Z
LAST-MODIFIED:20260420T124407Z
UID:9937-1780160400-1780167600@sirenbooks.es
SUMMARY:Firma Andrea Arroyo del CAmpo | FLM
DESCRIPTION:  \nAndrea Arroyo del Campo firma su trilogía La Flor de Garland\, compuesta por Mala Hierba\, Nunca muere y Siemprevivas\, en la caseta en la librería La Independiente\, caseta 301 (bloque 26B) de la Feria del Libro de Madrid el sábado 30 de mayo de 17:00 a 19:00.
URL:https://sirenbooks.es/evento/firma-andrea-arroyo-del-campo-flm/
LOCATION:Feria del Libro de Madrid\, Madrid\, España
END:VEVENT
BEGIN:VEVENT
DTSTART;TZID=Europe/Paris:20260531T110000
DTEND;TZID=Europe/Paris:20260531T120000
DTSTAMP:20260421T131043
CREATED:20260420T123526Z
LAST-MODIFIED:20260420T123548Z
UID:9924-1780225200-1780228800@sirenbooks.es
SUMMARY:Firma de Ysera Sevriens | FLM
DESCRIPTION:Ysera Sevriens firma Hilos de cristal en la caseta en la librería La Independiente\, caseta 301 (bloque 26B) de la Feria del Libro de Madrid el sábado 31 de mayo de 11:00 a 12:00.
URL:https://sirenbooks.es/evento/firma-de-ysera-sevriens-flm-2/
LOCATION:Feria del Libro de Madrid\, Madrid\, España
CATEGORIES:Firma
END:VEVENT
END:VCALENDAR